BEGIN:VCALENDAR
VERSION:2.0
PRODID:-//KItsap Business - ECPv6.15.11//NONSGML v1.0//EN
CALSCALE:GREGORIAN
METHOD:PUBLISH
X-WR-CALNAME:KItsap Business
X-ORIGINAL-URL:https://kitsapbusiness.com
X-WR-CALDESC:Events for KItsap Business
REFRESH-INTERVAL;VALUE=DURATION:PT1H
X-Robots-Tag:noindex
X-PUBLISHED-TTL:PT1H
BEGIN:VTIMEZONE
TZID:America/Los_Angeles
BEGIN:DAYLIGHT
TZOFFSETFROM:-0800
TZOFFSETTO:-0700
TZNAME:PDT
DTSTART:20250309T100000
END:DAYLIGHT
BEGIN:STANDARD
TZOFFSETFROM:-0700
TZOFFSETTO:-0800
TZNAME:PST
DTSTART:20251102T090000
END:STANDARD
BEGIN:DAYLIGHT
TZOFFSETFROM:-0800
TZOFFSETTO:-0700
TZNAME:PDT
DTSTART:20260308T100000
END:DAYLIGHT
BEGIN:STANDARD
TZOFFSETFROM:-0700
TZOFFSETTO:-0800
TZNAME:PST
DTSTART:20261101T090000
END:STANDARD
BEGIN:DAYLIGHT
TZOFFSETFROM:-0800
TZOFFSETTO:-0700
TZNAME:PDT
DTSTART:20270314T100000
END:DAYLIGHT
BEGIN:STANDARD
TZOFFSETFROM:-0700
TZOFFSETTO:-0800
TZNAME:PST
DTSTART:20271107T090000
END:STANDARD
END:VTIMEZONE
BEGIN:VEVENT
DTSTART;TZID=America/Los_Angeles:20260128T120000
DTEND;TZID=America/Los_Angeles:20260128T130000
DTSTAMP:20260424T035957
CREATED:20251203T050901Z
LAST-MODIFIED:20251203T050901Z
UID:36824-1769601600-1769605200@kitsapbusiness.com
SUMMARY:A Public Chat about Bainbridge's AI City Manager Candidate
DESCRIPTION:AI author R. Kenner French (ModernMillions.ai) pitches an AI Candidate to function as Bainbridge Island’s City Manager for ultimate efficiency. \n\n\nWe believe the real solution to the City Manager position on Bainbridge Island is an AI Candidate—a powerful digital operating system that provides absolute continuity and efficiency from day one” \n— R. Kenner French\n\nAs the City of Bainbridge Island prepares for the retirement of City Manager Blair King in January 2026\, local financial technology author and leader R. Kenner French is spearheading a public campaign to ensure enhanced municipal efficiency through strategic Artificial Intelligence (AI) adoption. \nFrench\, who penned an Amazon #1 Bestselling Author (Entrepreneurship Category) called “ModernMillions.AI\,” and runs VastSolutionsGroup.com is proposing a structured AI integration initiative designed to safeguard critical city functions\, streamline public services\, and make for a more efficient city government. \nThe initiative\, led by R. Kenner French and VastSolutionsGroup.com\, is a targeted proposal to integrate AI tools into city operations as a means to produce a better and a more efficiently run City. The goal is to establish stable\, efficient systems—from permit processing to data management—ensuring that the essential public services are optimized by AI and a Large Language Model (LLM) specified for Bainbridge Island’s very unique circumstance. \nR. Kenner French and VastSolutionsGroup.com invite the Bainbridge Island City Council\, local businesses\, and residents to engage in a public dialogue on this critical technological transition. There will be a meeting 12-1 on January 28th at 755 Winslow Avenue NE\, Suite 101 on Bainbridge to discuss.
URL:https://kitsapbusiness.com/event/a-public-chat-about-bainbridges-ai-city-manager-candidate/
LOCATION:VastSolutionsGroup.com\, 755 Winslow Way East\, Suite 101\, Bainbridge Island\, WA\, 98110\, United States
ATTACH;FMTTYPE=image/jpeg:https://kitsapbusiness.com/wp-content/uploads/2025/12/IMG_4385-1.jpg
ORGANIZER;CN="VastSolutionsGroup.com":MAILTO:Kenner@VastSolutionsGroup.com
END:VEVENT
END:VCALENDAR