BEGIN:VCALENDAR
VERSION:2.0
PRODID:-//KItsap Business - ECPv6.15.11//NONSGML v1.0//EN
CALSCALE:GREGORIAN
METHOD:PUBLISH
X-WR-CALNAME:KItsap Business
X-ORIGINAL-URL:https://kitsapbusiness.com
X-WR-CALDESC:Events for KItsap Business
REFRESH-INTERVAL;VALUE=DURATION:PT1H
X-Robots-Tag:noindex
X-PUBLISHED-TTL:PT1H
BEGIN:VTIMEZONE
TZID:America/Los_Angeles
BEGIN:DAYLIGHT
TZOFFSETFROM:-0800
TZOFFSETTO:-0700
TZNAME:PDT
DTSTART:20250309T100000
END:DAYLIGHT
BEGIN:STANDARD
TZOFFSETFROM:-0700
TZOFFSETTO:-0800
TZNAME:PST
DTSTART:20251102T090000
END:STANDARD
BEGIN:DAYLIGHT
TZOFFSETFROM:-0800
TZOFFSETTO:-0700
TZNAME:PDT
DTSTART:20260308T100000
END:DAYLIGHT
BEGIN:STANDARD
TZOFFSETFROM:-0700
TZOFFSETTO:-0800
TZNAME:PST
DTSTART:20261101T090000
END:STANDARD
BEGIN:DAYLIGHT
TZOFFSETFROM:-0800
TZOFFSETTO:-0700
TZNAME:PDT
DTSTART:20270314T100000
END:DAYLIGHT
BEGIN:STANDARD
TZOFFSETFROM:-0700
TZOFFSETTO:-0800
TZNAME:PST
DTSTART:20271107T090000
END:STANDARD
END:VTIMEZONE
BEGIN:VEVENT
DTSTART;TZID=America/Los_Angeles:20260211T193000
DTEND;TZID=America/Los_Angeles:20260211T203000
DTSTAMP:20260424T021309
CREATED:20260110T005421Z
LAST-MODIFIED:20260110T005421Z
UID:37061-1770838200-1770841800@kitsapbusiness.com
SUMMARY:AI Meet-up at Bainbridge Brewing
DESCRIPTION:Bainbridge AI: Automation\, Tools & Community\nWhere: Bainbridge Brewing (Coppertop Loop) \nWhen: February 11th | 7:30 PM – 8:30 PM \nDescription: How is AI actually changing the way we work on the island? Whether you are a seasoned prompt engineer or you’ve never even opened ChatGPT\, join us for a casual community meetup at Bainbridge Brewing.  Join Amazon #1 best seller\, R. Kenner French (“ModernMillions.ai”) and whomever to chat all things AI. \nThis is a “no-ego” space to discuss the bridge between “Old AI” (predictive analytics and basic algorithms) and “New AI” (generative tools and autonomous agents). We’ll be sharing favorite tools\, discussing how to automate the “boring stuff” in business\, and brainstorming how our local community can stay ahead of the curve. \nTopics of Conversation: * Automation for Everyone: How to reclaim 5+ hours a week using simple AI workflows. \n\n\nThe Tool Chest: A look at the latest in generative video\, text\, and bookkeeping tools. \n\n\nThe Future of Work: What “Old AI” taught us vs. what the “New AI” era requires. \n\nAnd whatever…\n\nNo formal presentation—just good beer and smart conversation about the tools shaping our future.
URL:https://kitsapbusiness.com/event/ai-meet-up-at-bainbridge-brewing/
CATEGORIES:AI Workshop
END:VEVENT
END:VCALENDAR